BEGIN:VCALENDAR
VERSION:2.0
PRODID:-//EEB - Ecole d&#039;Escrime Bulle - ECPv6.15.18//NONSGML v1.0//EN
CALSCALE:GREGORIAN
METHOD:PUBLISH
X-ORIGINAL-URL:https://bullescrime.ch
X-WR-CALDESC:Évènements pour EEB - Ecole d&#039;Escrime Bulle
REFRESH-INTERVAL;VALUE=DURATION:PT1H
X-Robots-Tag:noindex
X-PUBLISHED-TTL:PT1H
BEGIN:VTIMEZONE
TZID:Europe/Zurich
BEGIN:DAYLIGHT
TZOFFSETFROM:+0100
TZOFFSETTO:+0200
TZNAME:CEST
DTSTART:20230326T010000
END:DAYLIGHT
BEGIN:STANDARD
TZOFFSETFROM:+0200
TZOFFSETTO:+0100
TZNAME:CET
DTSTART:20231029T010000
END:STANDARD
BEGIN:DAYLIGHT
TZOFFSETFROM:+0100
TZOFFSETTO:+0200
TZNAME:CEST
DTSTART:20240331T010000
END:DAYLIGHT
BEGIN:STANDARD
TZOFFSETFROM:+0200
TZOFFSETTO:+0100
TZNAME:CET
DTSTART:20241027T010000
END:STANDARD
BEGIN:DAYLIGHT
TZOFFSETFROM:+0100
TZOFFSETTO:+0200
TZNAME:CEST
DTSTART:20250330T010000
END:DAYLIGHT
BEGIN:STANDARD
TZOFFSETFROM:+0200
TZOFFSETTO:+0100
TZNAME:CET
DTSTART:20251026T010000
END:STANDARD
END:VTIMEZONE
BEGIN:VEVENT
DTSTART;VALUE=DATE:20240914
DTEND;VALUE=DATE:20240916
DTSTAMP:20260421T224052
CREATED:20240809T142432Z
LAST-MODIFIED:20240809T142432Z
UID:1812-1726272000-1726444799@bullescrime.ch
SUMMARY:Challenge Marcus Leyrer à Lucerne
DESCRIPTION:Samedi: U10 / U12 / U17\nDimanche: U14 / U20
URL:https://bullescrime.ch/event/challenge-marcus-leyrer-a-lucerne-3/
LOCATION:Salle de sports Maihof\, Maihofstrasse 7\, Luzern\, 6004\, Suisse
CATEGORIES:Compétitions
END:VEVENT
BEGIN:VEVENT
DTSTART;VALUE=DATE:20240921
DTEND;VALUE=DATE:20240923
DTSTAMP:20260421T224052
CREATED:20240831T111502Z
LAST-MODIFIED:20240831T111605Z
UID:1822-1726876800-1727049599@bullescrime.ch
SUMMARY:Tournoi de sélection U14-U17-U20 à Morges
DESCRIPTION:Samedi: U14 filles / U17 garçons / U20 dames\nDimanche: U14 garçons / U17 filles / U20 hommes
URL:https://bullescrime.ch/event/tournoi-de-selection-u14-u17-u20-a-morges/
LOCATION:Salle omnisports de Beausobre\, Avenue de Vertou 2\, Morges\, 1110\, Suisse
CATEGORIES:Compétitions
END:VEVENT
END:VCALENDAR